BEGIN:VCALENDAR
VERSION:2.0
PRODID:-//UC White Mountain Research Center - ECPv6.15.20//NONSGML v1.0//EN
CALSCALE:GREGORIAN
METHOD:PUBLISH
X-WR-CALNAME:UC White Mountain Research Center
X-ORIGINAL-URL:https://www.wmrc.edu
X-WR-CALDESC:Events for UC White Mountain Research Center
REFRESH-INTERVAL;VALUE=DURATION:PT1H
X-Robots-Tag:noindex
X-PUBLISHED-TTL:PT1H
BEGIN:VTIMEZONE
TZID:America/Los_Angeles
BEGIN:DAYLIGHT
TZOFFSETFROM:-0800
TZOFFSETTO:-0700
TZNAME:PDT
DTSTART:20240310T100000
END:DAYLIGHT
BEGIN:STANDARD
TZOFFSETFROM:-0700
TZOFFSETTO:-0800
TZNAME:PST
DTSTART:20241103T090000
END:STANDARD
BEGIN:DAYLIGHT
TZOFFSETFROM:-0800
TZOFFSETTO:-0700
TZNAME:PDT
DTSTART:20250309T100000
END:DAYLIGHT
BEGIN:STANDARD
TZOFFSETFROM:-0700
TZOFFSETTO:-0800
TZNAME:PST
DTSTART:20251102T090000
END:STANDARD
BEGIN:DAYLIGHT
TZOFFSETFROM:-0800
TZOFFSETTO:-0700
TZNAME:PDT
DTSTART:20260308T100000
END:DAYLIGHT
BEGIN:STANDARD
TZOFFSETFROM:-0700
TZOFFSETTO:-0800
TZNAME:PST
DTSTART:20261101T090000
END:STANDARD
END:VTIMEZONE
BEGIN:VEVENT
DTSTART;TZID=America/Los_Angeles:20250614T130000
DTEND;TZID=America/Los_Angeles:20250615T140000
DTSTAMP:20260421T045509
CREATED:20241101T174847Z
LAST-MODIFIED:20250521T185300Z
UID:2729-1749906000-1749996000@www.wmrc.edu
SUMMARY:Art & Science in Nature: Plein Air Painting Weekend at Crooked Creek
DESCRIPTION:Mono Arts Council (MAC) & WMRC are partnering to offer a weekend of plein air painting in celebration of WMRC’s 75th anniversary.  \nSaturday\, June 14th\, 1 p.m.-4 p.m. AND Sunday\, June 15th\, 11 a.m. – 2 p.m. \nat UC WMRC’s Crooked Creek Reserve in the White Mountains\, CA \n\nWatercolor supplies will be provided\nOpen to all skill levels\, an instructional session is included (MAC artists are Jenny Kane & Annemarie Hall)\nParticipants can participate in either or both workshops\nCost $50/session\, Optional Room & Board $100/participant\nFor more information\, contact Gaylene at wmrcinfo@ucla.edu (760)873-4344 OR Brooke at brooke@monoarts.org (760) 709-1856\n\nTo register\, visit: \nSaturday Class \nSunday Class \nWhole Weekend \n 
URL:https://www.wmrc.edu/event/plein-air-painting-at-crooked-creek/
LOCATION:Private: Crooked Creek Reserve\, United States
CATEGORIES:75th Anniversary,Field Trip,Public Event
ATTACH;FMTTYPE=image/jpeg:https://www.wmrc.edu/wp-content/uploads/2022/11/G_-Kinzy_CCR_Watercolor_07_22-1.jpg
ORGANIZER;CN="UC WMRC":MAILTO:wmrcinfo@ucla.edu
END:VEVENT
BEGIN:VEVENT
DTSTART;TZID=America/Los_Angeles:20250411T090000
DTEND;TZID=America/Los_Angeles:20250411T160000
DTSTAMP:20260421T045509
CREATED:20241121T225133Z
LAST-MODIFIED:20250409T172826Z
UID:2807-1744362000-1744387200@www.wmrc.edu
SUMMARY:Fieldtrip (FULL): Cambrian Fossils in the White Mountains
DESCRIPTION:PLEASE READ THE FULL DETAILS: \nREGISTRATION IS FULL. To be waitlisted please email wmrcinfo@ucla.edu. There is no guarantee for openings. A suggested donation of $20 per person is strongly recommended. Our email admin will discuss donation options. There is a fifteen-person participant cap for this trip. \nBill Krebs will be leading a 4×4 and hiking field trip to the White Mountains to see Cambrian Explosion fossil deposits. 4X4 vehicles are required. To reduce vehicle impacts please carpool or request a ride with WMRC. A caravan will meet at Owens Valley Station at 9 a.m. and return around 4:00 p.m. The group is expected to hike 4-5 miles of moderate terrain. Please wear hiking boots and appropriate apparel. Bring water\, snacks\, and a sack lunch.
URL:https://www.wmrc.edu/event/fieldtrip-cambrian-fossils-in-the-white-mountains/
CATEGORIES:75th Anniversary,Field Trip,Public Event
ATTACH;FMTTYPE=image/png:https://www.wmrc.edu/wp-content/uploads/2024/11/Bill-Krebs-Talk-Pic.png
END:VEVENT
END:VCALENDAR