BEGIN:VCALENDAR
VERSION:2.0
PRODID:-//UC White Mountain Research Center - ECPv6.15.20//NONSGML v1.0//EN
CALSCALE:GREGORIAN
METHOD:PUBLISH
X-WR-CALNAME:UC White Mountain Research Center
X-ORIGINAL-URL:https://www.wmrc.edu
X-WR-CALDESC:Events for UC White Mountain Research Center
REFRESH-INTERVAL;VALUE=DURATION:PT1H
X-Robots-Tag:noindex
X-PUBLISHED-TTL:PT1H
BEGIN:VTIMEZONE
TZID:America/Los_Angeles
BEGIN:DAYLIGHT
TZOFFSETFROM:-0800
TZOFFSETTO:-0700
TZNAME:PDT
DTSTART:20230312T100000
END:DAYLIGHT
BEGIN:STANDARD
TZOFFSETFROM:-0700
TZOFFSETTO:-0800
TZNAME:PST
DTSTART:20231105T090000
END:STANDARD
BEGIN:DAYLIGHT
TZOFFSETFROM:-0800
TZOFFSETTO:-0700
TZNAME:PDT
DTSTART:20240310T100000
END:DAYLIGHT
BEGIN:STANDARD
TZOFFSETFROM:-0700
TZOFFSETTO:-0800
TZNAME:PST
DTSTART:20241103T090000
END:STANDARD
BEGIN:DAYLIGHT
TZOFFSETFROM:-0800
TZOFFSETTO:-0700
TZNAME:PDT
DTSTART:20250309T100000
END:DAYLIGHT
BEGIN:STANDARD
TZOFFSETFROM:-0700
TZOFFSETTO:-0800
TZNAME:PST
DTSTART:20251102T090000
END:STANDARD
END:VTIMEZONE
BEGIN:VEVENT
DTSTART;VALUE=DATE:20241203
DTEND;VALUE=DATE:20241204
DTSTAMP:20260421T091653
CREATED:20241031T183844Z
LAST-MODIFIED:20241203T172729Z
UID:2690-1733184000-1733270399@www.wmrc.edu
SUMMARY:Giving Tuesday: 75th Anniversary Launch
DESCRIPTION:We begin our 75th Anniversary celebration by launching our new fundraising platform. Every donation\, big or small\, helps us support students and researchers and their scientific endeavors. Online donations can be made year round and in any dollar amount. If you wish to make larger donations please contact WMRC staff. To make an online donation please visit the link below. \n 
URL:https://www.wmrc.edu/event/giving-tuesday-75th-anniversary-launch/
LOCATION:Private: Online
CATEGORIES:75th Anniversary,Fundraiser
ATTACH;FMTTYPE=image/png:https://www.wmrc.edu/wp-content/uploads/2024/10/Giving-Tuesday-2024.png
ORGANIZER;CN="UC WMRC":MAILTO:wmrcinfo@ucla.edu
END:VEVENT
END:VCALENDAR